BEGIN:VCALENDAR
VERSION:2.0
PRODID:-//AIV Mark-Sauerland - ECPv4.7.3//NONSGML v1.0//EN
CALSCALE:GREGORIAN
METHOD:PUBLISH
X-WR-CALNAME:AIV Mark-Sauerland
X-ORIGINAL-URL:https://aiv-mark-sauerland.de
X-WR-CALDESC:Veranstaltungen für AIV Mark-Sauerland
BEGIN:VEVENT
DTSTART;TZID=Europe/Berlin:20260611T173000
DTEND;TZID=Europe/Berlin:20260611T210000
DTSTAMP:20260421T124134
CREATED:20260421T071458Z
LAST-MODIFIED:20260421T071458Z
UID:17601-1781199000-1781211600@aiv-mark-sauerland.de
SUMMARY:Spargelessen mit Kurzvorträgen
DESCRIPTION:Weitere Informationen folgen. \n
URL:https://aiv-mark-sauerland.de/event/spargelessen-mit-kurzvortraegen-4/
END:VEVENT
END:VCALENDAR