BEGIN:VCALENDAR
VERSION:2.0
PRODID:-//AIV Mark-Sauerland - ECPv4.7.3//NONSGML v1.0//EN
CALSCALE:GREGORIAN
METHOD:PUBLISH
X-WR-CALNAME:AIV Mark-Sauerland
X-ORIGINAL-URL:https://aiv-mark-sauerland.de
X-WR-CALDESC:Veranstaltungen für AIV Mark-Sauerland
BEGIN:VEVENT
DTSTART;TZID=Europe/Berlin:20260704T100000
DTEND;TZID=Europe/Berlin:20260704T180000
DTSTAMP:20260421T123955
CREATED:20260421T071608Z
LAST-MODIFIED:20260421T071945Z
UID:17603-1783159200-1783188000@aiv-mark-sauerland.de
SUMMARY:AIV-Radtour
DESCRIPTION:Weitere Informationen folgen. \n
URL:https://aiv-mark-sauerland.de/event/aiv-radtour-3/
END:VEVENT
END:VCALENDAR